BEGIN:VCALENDAR
VERSION:2.0
PRODID:-//informedcompliance.org//NONSGML kigkonsult.se iCalcreator 2.30.10
 //
CALSCALE:GREGORIAN
METHOD:PUBLISH
UID:b107fc79-71e9-4058-a937-2b1ff70f559e
X-WR-CALDESC:
X-WR-RELCALID:c192ed881dfb5a688cd025858f2c662b
X-WR-TIMEZONE:America/New_York
BEGIN:VTIMEZONE
TZID:America/New_York
BEGIN:STANDARD
TZNAME:EST
DTSTART:20251102T020000
TZOFFSETFROM:-0400
TZOFFSETTO:-0500
RDATE:20261101T020000
RDATE:20271107T020000
END:STANDARD
BEGIN:DAYLIGHT
TZNAME:EDT
DTSTART:20260308T020000
TZOFFSETFROM:-0500
TZOFFSETTO:-0400
RDATE:20270314T020000
END:DAYLIGHT
END:VTIMEZONE
BEGIN:VEVENT
UID:e56a7c98-0c20-4b24-ac29-1d338ea2e64b
DTSTAMP:20260420T154307Z
DESCRIPTION:
DTSTART;TZID=America/New_York:20260708T120000
DTEND;TZID=America/New_York:20260708T130000
LOCATION:Virtual link sent upon registration
SUMMARY:Is Informed’s Fiscal Sponsorship Right for Your Project?
END:VEVENT
END:VCALENDAR
